Workbook

Sheet Raw data
B1: Real GDP | C1: Real private consumption | D1: Real investment | E1: Real Exports | F1: Real Imports
B2: 19969.3 | C2: 13287.7 | D2: 3645 | E2: 6265.4 | F2: 6949.7
B3: 20161.9 | C3: 13601.5 | D3: 4108.2 | E3: 6444.4 | F3: 7450.1
B4: 20325 | C4: 13926.8 | D4: 3969 | E4: 6607.4 | F4: 7864.4
B5: 20564.7 | C5: 14216.9 | D5: 4065.1 | E5: 7361.8 | F5: 8807.6
B6: 20938.3 | C6: 14611.4 | D6: 4023.5 | E6: 7623.1 | F6: 9271
B7: 21099.9 | C7: 14927.9 | D7: 4691.4 | E7: 7485.4 | F7: 9260.2
B8: 21510.6 | C8: 15109.8 | D8: 4612.8 | E8: 7323.9 | F8: 8787.8
B9: 21741.9 | C9: 15454.6 | D9: 4789.2 | E9: 7394.4 | F9: 9507.8
B10: 21914.9 | C10: 15681.2 | D10: 4112.9 | E10: 7903.3 | F10: 9562.5
B11: 22346.1 | C11: 15785.3 | D11: 4556.1 | E11: 8727.6 | F11: 10050
B12: 22482 | C12: 16177 | D12: 5175.9 | E12: 9351.8 | F12: 11063.1
B13: 22895.2 | C13: 16510 | D13: 4391.8 | E13: 8843 | F13: 10562.5
... B51: 31145.1 | C51: 28431.7 | D51: 9944.1 | E51: 17259.5 | F51: 28127.6

Sheet Detrended with HP Lambda=1600
B1: Real GDP | C1: Real private consumption | D1: Real investment | E1: Real Exports | F1: Real Imports
B2: {=[1]!hp('Raw data'!B2:B51,1600)} -> 19502.724 | C2: {=[1]!hp('Raw data'!C2:C51,1600)} -> 12630.305 | D2: {=[1]!hp('Raw data'!D2:D51,1600)} -> 3575.8059 | E2: {=[1]!hp('Raw data'!E2:E51,1600)} -> 6217.7563 | F2: {=[1]!hp('Raw data'!F2:F51, 1600)} -> 6449.9524
B3: 19826.331 | C3: 13026.344 | D3: 3698.0099 | E3: 6473.2451 | F3: 6893.4511
B4: 20150.229 | C4: 13422.794 | D4: 3820.2571 | E4: 6728.7637 | F4: 7337.2622
B5: 20474.921 | C5: 13820.425 | D5: 3942.8472 | E5: 6984.3238 | F5: 7782.0458
B6: 20801.016 | C6: 14220.322 | D6: 4066.1728 | E6: 7239.8614 | F6: 8228.7917
B7: 21129.181 | C7: 14623.82 | D7: 4190.7028 | E7: 7495.5482 | F7: 8679.1306
B8: 21460.169 | C8: 15032.494 | D8: 4316.8795 | E8: 7751.7956 | F8: 9135.3445
B9: 21794.714 | C9: 15448.114 | D9: 4445.4582 | E9: 8009.0086 | F9: 9600.0788
B10: 22133.581 | C10: 15872.494 | D10: 4577.3791 | E10: 8267.3247 | F10: 10075.761
B11: 22477.504 | C11: 16307.455 | D11: 4713.7973 | E11: 8526.4974 | F11: 10564.762
B12: 22827.078 | C12: 16754.698 | D12: 4855.5774 | E12: 8786.0526 | F12: 11069.132
B13: 23182.817 | C13: 17215.595 | D13: 5003.4858 | E13: 9045.642 | F13: 11590.597
B14: 23545.019 | C14: 17691.162 | D14: 5158.4886 | E14: 9305.2706 | F14: 12130.882
... B51: 31111.602 | C51: 28213.983 | D51: 9030.2836 | E51: 17815.725 | F51: 28140.019

Sheet Log of first differences
B1: Real GDP | C1: Real private consumption | D1: Real investment | E1: Real Exports | F1: Real Imports
B2: =LOG('Detrended with HP Lambda=1600'!B3/'Detrended with HP Lambda=1600'!B2) -> 0.0071470758 | C2: =LOG('Detrended with HP Lambda=1600'!C3/'Detrended with HP Lambda=1600'!C2) -> 0.013408704 | D2: =LOG('Detrended with HP Lambda=1600'!D3/'Detrended with HP Lambda=1600'!D2) -> 0.014594133 | E2: =LOG('Detrended with HP Lambda=1600'!E3/'Detrended with HP Lambda=1600'!E2) -> 0.017488357 | F2: =LOG('Detrended with HP Lambda=1600'!F3/'Detrended with HP Lambda=1600'!F2) -> 0.028880189
B3: =LOG('Detrended with HP Lambda=1600'!B4/'Detrended with HP Lambda=1600'!B3) -> 0.0070376449 | C3: =LOG('Detrended with HP Lambda=1600'!C4/'Detrended with HP Lambda=1600'!C3) -> 0.013020377 | D3: =LOG('Detrended with HP Lambda=1600'!D4/'Detrended with HP Lambda=1600'!D3) -> 0.014124527 | E3: =LOG('Detrended with HP Lambda=1600'!E4/'Detrended with HP Lambda=1600'!E3) -> 0.016813226 | F3: =LOG('Detrended with HP Lambda=1600'!F4/'Detrended with HP Lambda=1600'!F3) -> 0.027097336
B4: =LOG('Detrended with HP Lambda=1600'!B5/'Detrended with HP Lambda=1600'!B4) -> 0.0069422373 | C4: =LOG('Detrended with HP Lambda=1600'!C5/'Detrended with HP Lambda=1600'!C4) -> 0.012678475 | D4: =LOG('Detrended with HP Lambda=1600'!D5/'Detrended with HP Lambda=1600'!D4) -> 0.013717356 | E4: =LOG('Detrended with HP Lambda=1600'!E5/'Detrended with HP Lambda=1600'!E4) -> 0.016189091 | F4: =LOG('Detrended with HP Lambda=1600'!F5/'Detrended with HP Lambda=1600'!F4) -> 0.025559745
B5: =LOG('Detrended with HP Lambda=1600'!B6/'Detrended with HP Lambda=1600'!B5) -> 0.0068623132 | C5: =LOG('Detrended with HP Lambda=1600'!C6/'Detrended with HP Lambda=1600'!C5) -> 0.012388051 | D5: =LOG('Detrended with HP Lambda=1600'!D6/'Detrended with HP Lambda=1600'!D5) -> 0.013375878 | E5: =LOG('Detrended with HP Lambda=1600'!E6/'Detrended with HP Lambda=1600'!E5) -> 0.015605884 | F5: =LOG('Detrended with HP Lambda=1600'!F6/'Detrended with HP Lambda=1600'!F5) -> 0.024242288
B6: =LOG('Detrended with HP Lambda=1600'!B7/'Detrended with HP Lambda=1600'!B6) -> 0.0067981196 | C6: =LOG('Detrended with HP Lambda=1600'!C7/'Detrended with HP Lambda=1600'!C6) -> 0.012151382 | D6: =LOG('Detrended with HP Lambda=1600'!D7/'Detrended with HP Lambda=1600'!D6) -> 0.013101029 | E6: =LOG('Detrended with HP Lambda=1600'!E7/'Detrended with HP Lambda=1600'!E6) -> 0.015073149 | F6: =LOG('Detrended with HP Lambda=1600'!F7/'Detrended with HP Lambda=1600'!F6) -> 0.023140155
B7: =LOG('Detrended with HP Lambda=1600'!B8/'Detrended with HP Lambda=1600'!B7) -> 0.0067504722 | C7: =LOG('Detrended with HP Lambda=1600'!C8/'Detrended with HP Lambda=1600'!C7) -> 0.011970224 | D7: =LOG('Detrended with HP Lambda=1600'!D8/'Detrended with HP Lambda=1600'!D7) -> 0.012883066 | E7: =LOG('Detrended with HP Lambda=1600'!E8/'Detrended with HP Lambda=1600'!E7) -> 0.014598911 | F7: =LOG('Detrended with HP Lambda=1600'!F8/'Detrended with HP Lambda=1600'!F7) -> 0.022248708
B8: =LOG('Detrended with HP Lambda=1600'!B9/'Detrended with HP Lambda=1600'!B8) -> 0.0067180322 | C8: =LOG('Detrended with HP Lambda=1600'!C9/'Detrended with HP Lambda=1600'!C8) -> 0.011844413 | D8: =LOG('Detrended with HP Lambda=1600'!D9/'Detrended with HP Lambda=1600'!D8) -> 0.012746607 | E8: =LOG('Detrended with HP Lambda=1600'!E9/'Detrended with HP Lambda=1600'!E8) -> 0.014176446 | F8: =LOG('Detrended with HP Lambda=1600'!F9/'Detrended with HP Lambda=1600'!F8) -> 0.021549864
B9: =LOG('Detrended with HP Lambda=1600'!B10/'Detrended with HP Lambda=1600'!B9) -> 0.006700517 | C9: =LOG('Detrended with HP Lambda=1600'!C10/'Detrended with HP Lambda=1600'!C9) -> 0.011769716 | D9: =LOG('Detrended with HP Lambda=1600'!D10/'Detrended with HP Lambda=1600'!D9) -> 0.012700353 | E9: =LOG('Detrended with HP Lambda=1600'!E10/'Detrended with HP Lambda=1600'!E9) -> 0.013786236 | F9: =LOG('Detrended with HP Lambda=1600'!F10/'Detrended with HP Lambda=1600'!F9) -> 0.021003072
B10: =LOG('Detrended with HP Lambda=1600'!B11/'Detrended with HP Lambda=1600'!B10) -> 0.0066963924 | C10: =LOG('Detrended with HP Lambda=1600'!C11/'Detrended with HP Lambda=1600'!C10) -> 0.011741022 | D10: =LOG('Detrended with HP Lambda=1600'!D11/'Detrended with HP Lambda=1600'!D10) -> 0.012754018 | E10: =LOG('Detrended with HP Lambda=1600'!E11/'Detrended with HP Lambda=1600'!E10) -> 0.01340567 | F10: =LOG('Detrended with HP Lambda=1600'!F11/'Detrended with HP Lambda=1600'!F10) -> 0.020581865
B11: =LOG('Detrended with HP Lambda=1600'!B12/'Detrended with HP Lambda=1600'!B11) -> 0.0067022382 | C11: =LOG('Detrended with HP Lambda=1600'!C12/'Detrended with HP Lambda=1600'!C11) -> 0.0117504 | D11: =LOG('Detrended with HP Lambda=1600'!D12/'Detrended with HP Lambda=1600'!D11) -> 0.012869982 | E11: =LOG('Detrended with HP Lambda=1600'!E12/'Detrended with HP Lambda=1600'!E11) -> 0.013023136 | F11: =LOG('Detrended with HP Lambda=1600'!F12/'Detrended with HP Lambda=1600'!F11) -> 0.02025382
B12: =LOG('Detrended with HP Lambda=1600'!B13/'Detrended with HP Lambda=1600'!B12) -> 0.0067158869 | C12: =LOG('Detrended with HP Lambda=1600'!C13/'Detrended with HP Lambda=1600'!C12) -> 0.011785453 | D12: =LOG('Detrended with HP Lambda=1600'!D13/'Detrended with HP Lambda=1600'!D12) -> 0.013031783 | E12: =LOG('Detrended with HP Lambda=1600'!E13/'Detrended with HP Lambda=1600'!E12) -> 0.012645594 | F12: =LOG('Detrended with HP Lambda=1600'!F13/'Detrended with HP Lambda=1600'!F12) -> 0.019992251
B13: =LOG('Detrended with HP Lambda=1600'!B14/'Detrended with HP Lambda=1600'!B13) -> 0.0067328486 | C13: =LOG('Detrended with HP Lambda=1600'!C14/'Detrended with HP Lambda=1600'!C13) -> 0.0118343 | D13: =LOG('Detrended with HP Lambda=1600'!D14/'Detrended with HP Lambda=1600'!D13) -> 0.013249809 | E13: =LOG('Detrended with HP Lambda=1600'!E14/'Detrended with HP Lambda=1600'!E13) -> 0.012289615 | F13: =LOG('Detrended with HP Lambda=1600'!F14/'Detrended with HP Lambda=1600'!F13) -> 0.019786584
... B50: =LOG('Detrended with HP Lambda=1600'!B51/'Detrended with HP Lambda=1600'!B50) -> -3.6797581e-05 | C50: =LOG('Detrended with HP Lambda=1600'!C51/'Detrended with HP Lambda=1600'!C50) -> -0.00024399358 | D50: =LOG('Detrended with HP Lambda=1600'!D51/'Detrended with HP Lambda=1600'!D50) -> 0.00011863503 | E50: =LOG('Detrended with HP Lambda=1600'!E51/'Detrended with HP Lambda=1600'!E50) -> 0.0058183468 | F50: =LOG('Detrended with HP Lambda=1600'!F51/'Detrended with HP Lambda=1600'!F50) -> 0.0032948889

Sheet Final_data
B1: OBS_GDP | C1: OBS_Consumption | D1: OBS_Invest | E1: OBS_Exports | F1: OBS_Imports
B2: ='Log of first differences'!B2-AVERAGE('Log of first differences'!$B$2:$B$50) -> 0.0030077473 | C2: ='Log of first differences'!C2-AVERAGE('Log of first differences'!$C$2:$C$50) -> 0.0062852228 | D2: ='Log of first differences'!D2-AVERAGE('Log of first differences'!$D$2:$D$50) -> 0.0063833686 | E2: ='Log of first differences'!E2-AVERAGE('Log of first differences'!$E$2:$E$50) -> 0.0081583612 | F2: ='Log of first differences'!F2-AVERAGE('Log of first differences'!$F$2:$F$50) -> 0.015823702
B3: ='Log of first differences'!B3-AVERAGE('Log of first differences'!$B$2:$B$50) -> 0.0028983164 | C3: ='Log of first differences'!C3-AVERAGE('Log of first differences'!$C$2:$C$50) -> 0.0058968963 | D3: ='Log of first differences'!D3-AVERAGE('Log of first differences'!$D$2:$D$50) -> 0.005913763 | E3: ='Log of first differences'!E3-AVERAGE('Log of first differences'!$E$2:$E$50) -> 0.0074832303 | F3: ='Log of first differences'!F3-AVERAGE('Log of first differences'!$F$2:$F$50) -> 0.014040849
B4: ='Log of first differences'!B4-AVERAGE('Log of first differences'!$B$2:$B$50) -> 0.0028029088 | C4: ='Log of first differences'!C4-AVERAGE('Log of first differences'!$C$2:$C$50) -> 0.0055549945 | D4: ='Log of first differences'!D4-AVERAGE('Log of first differences'!$D$2:$D$50) -> 0.0055065917 | E4: ='Log of first differences'!E4-AVERAGE('Log of first differences'!$E$2:$E$50) -> 0.0068590945 | F4: ='Log of first differences'!F4-AVERAGE('Log of first differences'!$F$2:$F$50) -> 0.012503258
B5: ='Log of first differences'!B5-AVERAGE('Log of first differences'!$B$2:$B$50) -> 0.0027229847 | C5: ='Log of first differences'!C5-AVERAGE('Log of first differences'!$C$2:$C$50) -> 0.0052645703 | D5: ='Log of first differences'!D5-AVERAGE('Log of first differences'!$D$2:$D$50) -> 0.0051651141 | E5: ='Log of first differences'!E5-AVERAGE('Log of first differences'!$E$2:$E$50) -> 0.006275888 | F5: ='Log of first differences'!F5-AVERAGE('Log of first differences'!$F$2:$F$50) -> 0.011185801
B6: ='Log of first differences'!B6-AVERAGE('Log of first differences'!$B$2:$B$50) -> 0.0026587911 | C6: ='Log of first differences'!C6-AVERAGE('Log of first differences'!$C$2:$C$50) -> 0.0050279012 | D6: ='Log of first differences'!D6-AVERAGE('Log of first differences'!$D$2:$D$50) -> 0.0048902647 | E6: ='Log of first differences'!E6-AVERAGE('Log of first differences'!$E$2:$E$50) -> 0.0057431531 | F6: ='Log of first differences'!F6-AVERAGE('Log of first differences'!$F$2:$F$50) -> 0.010083667
B7: ='Log of first differences'!B7-AVERAGE('Log of first differences'!$B$2:$B$50) -> 0.0026111436 | C7: ='Log of first differences'!C7-AVERAGE('Log of first differences'!$C$2:$C$50) -> 0.0048467434 | D7: ='Log of first differences'!D7-AVERAGE('Log of first differences'!$D$2:$D$50) -> 0.0046723018 | E7: ='Log of first differences'!E7-AVERAGE('Log of first differences'!$E$2:$E$50) -> 0.0052689147 | F7: ='Log of first differences'!F7-AVERAGE('Log of first differences'!$F$2:$F$50) -> 0.0091922208
B8: ='Log of first differences'!B8-AVERAGE('Log of first differences'!$B$2:$B$50) -> 0.0025787037 | C8: ='Log of first differences'!C8-AVERAGE('Log of first differences'!$C$2:$C$50) -> 0.0047209316 | D8: ='Log of first differences'!D8-AVERAGE('Log of first differences'!$D$2:$D$50) -> 0.0045358426 | E8: ='Log of first differences'!E8-AVERAGE('Log of first differences'!$E$2:$E$50) -> 0.0048464499 | F8: ='Log of first differences'!F8-AVERAGE('Log of first differences'!$F$2:$F$50) -> 0.008493377
B9: ='Log of first differences'!B9-AVERAGE('Log of first differences'!$B$2:$B$50) -> 0.0025611885 | C9: ='Log of first differences'!C9-AVERAGE('Log of first differences'!$C$2:$C$50) -> 0.0046462346 | D9: ='Log of first differences'!D9-AVERAGE('Log of first differences'!$D$2:$D$50) -> 0.0044895889 | E9: ='Log of first differences'!E9-AVERAGE('Log of first differences'!$E$2:$E$50) -> 0.0044562404 | F9: ='Log of first differences'!F9-AVERAGE('Log of first differences'!$F$2:$F$50) -> 0.007946585
B10: ='Log of first differences'!B10-AVERAGE('Log of first differences'!$B$2:$B$50) -> 0.0025570639 | C10: ='Log of first differences'!C10-AVERAGE('Log of first differences'!$C$2:$C$50) -> 0.0046175407 | D10: ='Log of first differences'!D10-AVERAGE('Log of first differences'!$D$2:$D$50) -> 0.0045432532 | E10: ='Log of first differences'!E10-AVERAGE('Log of first differences'!$E$2:$E$50) -> 0.0040756739 | F10: ='Log of first differences'!F10-AVERAGE('Log of first differences'!$F$2:$F$50) -> 0.0075253775
B11: ='Log of first differences'!B11-AVERAGE('Log of first differences'!$B$2:$B$50) -> 0.0025629097 | C11: ='Log of first differences'!C11-AVERAGE('Log of first differences'!$C$2:$C$50) -> 0.0046269193 | D11: ='Log of first differences'!D11-AVERAGE('Log of first differences'!$D$2:$D$50) -> 0.004659218 | E11: ='Log of first differences'!E11-AVERAGE('Log of first differences'!$E$2:$E$50) -> 0.0036931402 | F11: ='Log of first differences'!F11-AVERAGE('Log of first differences'!$F$2:$F$50) -> 0.0071973327
B12: ='Log of first differences'!B12-AVERAGE('Log of first differences'!$B$2:$B$50) -> 0.0025765584 | C12: ='Log of first differences'!C12-AVERAGE('Log of first differences'!$C$2:$C$50) -> 0.0046619716 | D12: ='Log of first differences'!D12-AVERAGE('Log of first differences'!$D$2:$D$50) -> 0.0048210183 | E12: ='Log of first differences'!E12-AVERAGE('Log of first differences'!$E$2:$E$50) -> 0.003315598 | F12: ='Log of first differences'!F12-AVERAGE('Log of first differences'!$F$2:$F$50) -> 0.0069357634
B13: ='Log of first differences'!B13-AVERAGE('Log of first differences'!$B$2:$B$50) -> 0.0025935201 | C13: ='Log of first differences'!C13-AVERAGE('Log of first differences'!$C$2:$C$50) -> 0.0047108194 | D13: ='Log of first differences'!D13-AVERAGE('Log of first differences'!$D$2:$D$50) -> 0.0050390446 | E13: ='Log of first differences'!E13-AVERAGE('Log of first differences'!$E$2:$E$50) -> 0.0029596185 | F13: ='Log of first differences'!F13-AVERAGE('Log of first differences'!$F$2:$F$50) -> 0.0067300973
... B50: ='Log of first differences'!B50-AVERAGE('Log of first differences'!$B$2:$B$50) -> -0.0041761261 | C50: ='Log of first differences'!C50-AVERAGE('Log of first differences'!$C$2:$C$50) -> -0.0073674746 | D50: ='Log of first differences'!D50-AVERAGE('Log of first differences'!$D$2:$D$50) -> -0.0080921294 | E50: ='Log of first differences'!E50-AVERAGE('Log of first differences'!$E$2:$E$50) -> -0.0035116493 | F50: ='Log of first differences'!F50-AVERAGE('Log of first differences'!$F$2:$F$50) -> -0.0097615983
